BEGIN:VCALENDAR
VERSION:2.0
PRODID:-//Pradaan - ECPv6.2.8.2//NONSGML v1.0//EN
CALSCALE:GREGORIAN
METHOD:PUBLISH
X-WR-CALNAME:Pradaan
X-ORIGINAL-URL:https://www.pradaan.org
X-WR-CALDESC:Events for Pradaan
REFRESH-INTERVAL;VALUE=DURATION:PT1H
X-Robots-Tag:noindex
X-PUBLISHED-TTL:PT1H
BEGIN:VTIMEZONE
TZID:UTC
BEGIN:STANDARD
TZOFFSETFROM:+0000
TZOFFSETTO:+0000
TZNAME:UTC
DTSTART:20210101T000000
END:STANDARD
END:VTIMEZONE
BEGIN:VEVENT
DTSTART;TZID=UTC:20210619T170000
DTEND;TZID=UTC:20210619T180000
DTSTAMP:20260425T184608
CREATED:20210529T082909Z
LAST-MODIFIED:20210614T050238Z
UID:292-1624122000-1624125600@www.pradaan.org
SUMMARY:Helping Covid-Impacted Families With Health and Life Insurance Literacy!
DESCRIPTION:Guardianship and custody of minors who have lost both parents
URL:https://www.pradaan.org/event/helping-covid-impacted-families-with-health-and-life-insurance-literacy/
ATTACH;FMTTYPE=image/jpeg:https://www.pradaan.org/wp-content/uploads/2021/06/ashihs-singh.jpg
END:VEVENT
END:VCALENDAR